BEGIN:VCALENDAR
VERSION:2.0
PRODID:-//Chess Calendar - ECPv6.15.17//NONSGML v1.0//EN
CALSCALE:GREGORIAN
METHOD:PUBLISH
X-WR-CALNAME:Chess Calendar
X-ORIGINAL-URL:https://chesscalendar.in
X-WR-CALDESC:Events for Chess Calendar
REFRESH-INTERVAL;VALUE=DURATION:PT1H
X-Robots-Tag:noindex
X-PUBLISHED-TTL:PT1H
BEGIN:VTIMEZONE
TZID:Asia/Kolkata
BEGIN:STANDARD
TZOFFSETFROM:+0530
TZOFFSETTO:+0530
TZNAME:IST
DTSTART:20250101T000000
END:STANDARD
END:VTIMEZONE
BEGIN:VEVENT
DTSTART;TZID=Asia/Kolkata:20260228T080000
DTEND;TZID=Asia/Kolkata:20260228T170000
DTSTAMP:20260421T000814
CREATED:20260223T093952Z
LAST-MODIFIED:20260223T094132Z
UID:129-1772265600-1772298000@chesscalendar.in
SUMMARY:Inventive 1.0 All India FIDE rated Rapid Tournament
DESCRIPTION:Download Brochure
URL:https://chesscalendar.in/event/inventive-1-0-all-india-fide-rated-rapid-tournament/
LOCATION:Euro School Chimney Hills\, EuroSchool Chimney Hills\, Chikkasandra\, Chikkabanavara\, Bangalore\, Karnataka\, 560090\, India
CATEGORIES:Rapid
END:VEVENT
END:VCALENDAR