BEGIN:VCALENDAR
VERSION:2.0
PRODID:-//Chess Calendar - ECPv6.15.17//NONSGML v1.0//EN
CALSCALE:GREGORIAN
METHOD:PUBLISH
X-ORIGINAL-URL:https://chesscalendar.in
X-WR-CALDESC:Events for Chess Calendar
REFRESH-INTERVAL;VALUE=DURATION:PT1H
X-Robots-Tag:noindex
X-PUBLISHED-TTL:PT1H
BEGIN:VTIMEZONE
TZID:Asia/Kolkata
BEGIN:STANDARD
TZOFFSETFROM:+0530
TZOFFSETTO:+0530
TZNAME:IST
DTSTART:20250101T000000
END:STANDARD
END:VTIMEZONE
BEGIN:VEVENT
DTSTART;TZID=Asia/Kolkata:20260510T080000
DTEND;TZID=Asia/Kolkata:20260515T170000
DTSTAMP:20260422T162351
CREATED:20260410T105830Z
LAST-MODIFIED:20260410T105830Z
UID:446-1778400000-1778864400@chesscalendar.in
SUMMARY:1st Maverick 5th Khannur FIDE Rated Open Classical Chess Tournament 2026
DESCRIPTION:Download Brochure
URL:https://chesscalendar.in/event/1st-maverick-5th-khannur-fide-rated-open-classical-chess-tournament-2026/
LOCATION:New Horizon Scholars School\, Kavesar\, GB Road\,\, New Horizon Scholars School\, Kavesar\, GB Road\, Thane\, Maharashtra\, India
CATEGORIES:Standard
END:VEVENT
BEGIN:VEVENT
DTSTART;TZID=Asia/Kolkata:20260513T080000
DTEND;TZID=Asia/Kolkata:20260517T170000
DTSTAMP:20260422T162351
CREATED:20260422T100855Z
LAST-MODIFIED:20260422T100855Z
UID:455-1778659200-1779037200@chesscalendar.in
SUMMARY:Dollar City 1st International Open FIDE Rated Chess Tournament
DESCRIPTION:Download Brochure
URL:https://chesscalendar.in/event/dollar-city-1st-international-open-fide-rated-chess-tournament/
LOCATION:Aurobindo Vidhyalaya Palani-Alangiyam-Dharapuram Main Road\, Dharapuram Tirupur\, Aurobindo Vidhyalaya Palani-Alangiyam-Dharapuram Main Road\, Dharampur\, Tirupur\, Tamilnadu\, India
CATEGORIES:Standard
ORGANIZER;CN="King's Chess Academy Tirupur":MAILTO:Umapathy.chess@gmail.com
END:VEVENT
BEGIN:VEVENT
DTSTART;TZID=Asia/Kolkata:20260514T080000
DTEND;TZID=Asia/Kolkata:20260518T170000
DTSTAMP:20260422T162351
CREATED:20260422T101340Z
LAST-MODIFIED:20260422T101340Z
UID:460-1778745600-1779123600@chesscalendar.in
SUMMARY:INTERNATIONAL FIDE OPEN CHESS TOURNAMENT
DESCRIPTION:Download Brochure
URL:https://chesscalendar.in/event/international-fide-open-chess-tournament/
LOCATION:Hotel Grand conventions SRIKAKULAM\, Hotel Grand Conventions Srikakulam\, srikakulam\, Andhra Pradesh\, India
CATEGORIES:Standard
END:VEVENT
BEGIN:VEVENT
DTSTART;TZID=Asia/Kolkata:20260516T080000
DTEND;TZID=Asia/Kolkata:20260520T170000
DTSTAMP:20260422T162351
CREATED:20260422T101658Z
LAST-MODIFIED:20260422T101658Z
UID:465-1778918400-1779296400@chesscalendar.in
SUMMARY:4th HDCA All India FIDE rating Classical Chess Tournament 2026
DESCRIPTION:Download Brochure
URL:https://chesscalendar.in/event/4th-hdca-all-india-fide-rating-classical-chess-tournament-2026/
LOCATION:MULTIPURPOSE HALL VINOBA BHAVE UNIVERSITY HAZARIBAG\, MULTIPURPOSE HALL VINOBA BHAVE UNIVERSITY\, HAZARIBAG\, Jharkhand\, India
CATEGORIES:Standard
END:VEVENT
BEGIN:VEVENT
DTSTART;TZID=Asia/Kolkata:20260517T080000
DTEND;TZID=Asia/Kolkata:20260521T170000
DTSTAMP:20260422T162351
CREATED:20260422T102454Z
LAST-MODIFIED:20260422T102454Z
UID:475-1779004800-1779382800@chesscalendar.in
SUMMARY:Shri Dhanpat Rai Sachdeva Memorial Open FIDE Rated International Classical Chess Tournament
DESCRIPTION:Download Brochure
URL:https://chesscalendar.in/event/shri-dhanpat-rai-sachdeva-memorial-open-fide-rated-international-classical-chess-tournament/
LOCATION:MARINA DREAMS BANQUETS\, WAZIRPUR\, NEW DELHI\, MARINA DREAMS BANQUETS\, New Delhi\, Delhi\, India
CATEGORIES:Standard
ORGANIZER;CN="Rai Sahab Council":MAILTO:raisahabcouncil@gmail.com
END:VEVENT
BEGIN:VEVENT
DTSTART;TZID=Asia/Kolkata:20260520T080000
DTEND;TZID=Asia/Kolkata:20260524T170000
DTSTAMP:20260422T162351
CREATED:20260422T102911Z
LAST-MODIFIED:20260422T102911Z
UID:480-1779264000-1779642000@chesscalendar.in
SUMMARY:Annai Arul 2nd International Fide rated Chess Tournament
DESCRIPTION:Download Brochure
URL:https://chesscalendar.in/event/annai-arul-2nd-international-fide-rated-chess-tournament/
LOCATION:ANNAI ARUL PUBLIC SCHOOL No. 1\, Paduvanchery Main Road\, Madambakkam\, Chennai\, Tamil Nadu 600126\, ANNAI ARUL PUBLIC SCHOOL\, Chennai\, Tamilnadu\, 600126\, India
CATEGORIES:Standard
END:VEVENT
END:VCALENDAR