BEGIN:VCALENDAR
VERSION:2.0
PRODID:-//Chess Calendar - ECPv6.15.17//NONSGML v1.0//EN
CALSCALE:GREGORIAN
METHOD:PUBLISH
X-ORIGINAL-URL:https://chesscalendar.in
X-WR-CALDESC:Events for Chess Calendar
REFRESH-INTERVAL;VALUE=DURATION:PT1H
X-Robots-Tag:noindex
X-PUBLISHED-TTL:PT1H
BEGIN:VTIMEZONE
TZID:Asia/Kolkata
BEGIN:STANDARD
TZOFFSETFROM:+0530
TZOFFSETTO:+0530
TZNAME:IST
DTSTART:20250101T000000
END:STANDARD
END:VTIMEZONE
BEGIN:VEVENT
DTSTART;TZID=Asia/Kolkata:20260420T080000
DTEND;TZID=Asia/Kolkata:20260424T170000
DTSTAMP:20260420T172027
CREATED:20260403T125309Z
LAST-MODIFIED:20260403T125309Z
UID:344-1776672000-1777050000@chesscalendar.in
SUMMARY:Shakti Grandeur 9.0 International Open Fide Rating Chess Tournament 2026
DESCRIPTION:Download Brochure
URL:https://chesscalendar.in/event/shakti-grandeur-9-0-international-open-fide-rating-chess-tournament-2026/
LOCATION:Shakti Sports Club\, Shakti greens & banquets\, Vadodara\, Gujarat\, India
CATEGORIES:Blitz,Rapid,Standard
ORGANIZER;CN="Dhruvik Chess Academy":MAILTO:uvikchessacademy@gmail.com
END:VEVENT
BEGIN:VEVENT
DTSTART;TZID=Asia/Kolkata:20260422T080000
DTEND;TZID=Asia/Kolkata:20260426T170000
DTSTAMP:20260420T172027
CREATED:20260403T125837Z
LAST-MODIFIED:20260403T125837Z
UID:349-1776844800-1777222800@chesscalendar.in
SUMMARY:2nd Late Shri Dhiraj Singh Raghuvanshi Memorial Fide Rating Open Chess Tournament
DESCRIPTION:Download Brochure
URL:https://chesscalendar.in/event/2nd-late-shri-dhiraj-singh-raghuvanshi-memorial-fide-rating-open-chess-tournament/
LOCATION:Shivalik Hall\, Manoj Sarkar Stadium RUDRAPUR\, UTTARAKHAND\, Shivalik Hall\, Manoj Sarkar stadium\, Rudrapur\, Uttarakhand\, 263153\, India
CATEGORIES:Standard
END:VEVENT
BEGIN:VEVENT
DTSTART;TZID=Asia/Kolkata:20260422T080000
DTEND;TZID=Asia/Kolkata:20260426T170000
DTSTAMP:20260420T172027
CREATED:20260403T130402Z
LAST-MODIFIED:20260403T130402Z
UID:354-1776844800-1777222800@chesscalendar.in
SUMMARY:9th CHESSMII INTERNATIONAL OPEN FIDE RATED CHESS TOURNAMENT
DESCRIPTION:Download Brochure
URL:https://chesscalendar.in/event/9th-chessmii-international-open-fide-rated-chess-tournament/
LOCATION:SANJOS METROPOLITAN SCHOOL\, HOLLOWAY RD\, PALISSERY\, THALASSERY\, KANNUR\, KERALA\, Sanjos Metropolitan school\, Kannur\, Kerala\, India
CATEGORIES:Standard
END:VEVENT
BEGIN:VEVENT
DTSTART;TZID=Asia/Kolkata:20260425T080000
DTEND;TZID=Asia/Kolkata:20260427T170000
DTSTAMP:20260420T172027
CREATED:20260408T125543Z
LAST-MODIFIED:20260408T125543Z
UID:365-1777104000-1777309200@chesscalendar.in
SUMMARY:Warrior Chess Academy – International 2nd FIDE Rated Open Chess Tournament for Below 1650
DESCRIPTION:Download Brochure
URL:https://chesscalendar.in/event/warrior-chess-academy-international-2nd-fide-rated-open-chess-tournament-for-below-1650/
LOCATION:Nehru Stadium Chennai\, Chennai\, Tamilnadu\, India
CATEGORIES:Standard
END:VEVENT
BEGIN:VEVENT
DTSTART;TZID=Asia/Kolkata:20260429T080000
DTEND;TZID=Asia/Kolkata:20260503T170000
DTSTAMP:20260420T172027
CREATED:20260408T132800Z
LAST-MODIFIED:20260408T132800Z
UID:378-1777449600-1777827600@chesscalendar.in
SUMMARY:5th KPK International FIDE Rating Open Chess Tournament 2026
DESCRIPTION:Download Brochure
URL:https://chesscalendar.in/event/5th-kpk-international-fide-rating-open-chess-tournament-2026/
LOCATION:HARVEY KUMARASAMY KALYANA MANDAPАM\, HARVEY KUMARASAMY KALYANA MANDAPАM\, Tiruppurr\, Tamilnadu\, 641602\, India
CATEGORIES:Standard
END:VEVENT
BEGIN:VEVENT
DTSTART;TZID=Asia/Kolkata:20260430T080000
DTEND;TZID=Asia/Kolkata:20260503T170000
DTSTAMP:20260420T172027
CREATED:20260408T133209Z
LAST-MODIFIED:20260408T133209Z
UID:383-1777536000-1777827600@chesscalendar.in
SUMMARY:SRM 2nd International FIDE Rating Open Chess Tournament 2026
DESCRIPTION:Download Brochure
URL:https://chesscalendar.in/event/srm-2nd-international-fide-rating-open-chess-tournament-2026/
LOCATION:PADMA BHUSHAN MAJOR DHYAN CHAND INDOOR STADIUM\,\, PADMA BHUSHAN MAJOR DHYAN CHAND INDOOR STADIUM\, Chengalpattu\, Tamilnadu\, India
CATEGORIES:Standard
END:VEVENT
BEGIN:VEVENT
DTSTART;TZID=Asia/Kolkata:20260430T080000
DTEND;TZID=Asia/Kolkata:20260504T170000
DTSTAMP:20260420T172027
CREATED:20260408T133939Z
LAST-MODIFIED:20260408T133939Z
UID:388-1777536000-1777914000@chesscalendar.in
SUMMARY:Hyderabad All India Open FIDE Rating Chess Tournament 2026
DESCRIPTION:Download Brochure
URL:https://chesscalendar.in/event/hyderabad-all-india-open-fide-rating-chess-tournament-2026/
LOCATION:Saroor Nagar Indoor Stadium\, Saroor Nagar Indoor Stadium\, Hyderabad\, Hyderabad\, India
CATEGORIES:Standard
END:VEVENT
END:VCALENDAR