BEGIN:VCALENDAR
VERSION:2.0
PRODID:-//Chess Calendar - ECPv6.15.17//NONSGML v1.0//EN
CALSCALE:GREGORIAN
METHOD:PUBLISH
X-WR-CALNAME:Chess Calendar
X-ORIGINAL-URL:https://chesscalendar.in
X-WR-CALDESC:Events for Chess Calendar
REFRESH-INTERVAL;VALUE=DURATION:PT1H
X-Robots-Tag:noindex
X-PUBLISHED-TTL:PT1H
BEGIN:VTIMEZONE
TZID:Asia/Kolkata
BEGIN:STANDARD
TZOFFSETFROM:+0530
TZOFFSETTO:+0530
TZNAME:IST
DTSTART:20250101T000000
END:STANDARD
END:VTIMEZONE
BEGIN:VEVENT
DTSTART;TZID=Asia/Kolkata:20260410T080000
DTEND;TZID=Asia/Kolkata:20260413T170000
DTSTAMP:20260420T185730
CREATED:20260327T102039Z
LAST-MODIFIED:20260327T102039Z
UID:315-1775808000-1776099600@chesscalendar.in
SUMMARY:SARGUJA CUP ALL INDIA OPEN FIDE RATED CHESS TOURNAMENT -2026 AMBIKAPUR CG
DESCRIPTION:Download Brochure
URL:https://chesscalendar.in/event/sarguja-cup-all-india-open-fide-rated-chess-tournament-2026-ambikapur-cg/
LOCATION:GOVT.POLYTECHNIC COLLEGE\, AMBIKAPUR CG\, Govt. Polytechnic College\, Ambikapur\, Chhattisgarh\, India
CATEGORIES:Standard
END:VEVENT
BEGIN:VEVENT
DTSTART;TZID=Asia/Kolkata:20260412T080000
DTEND;TZID=Asia/Kolkata:20260414T170000
DTSTAMP:20260420T185730
CREATED:20260327T102731Z
LAST-MODIFIED:20260327T102731Z
UID:325-1775980800-1776186000@chesscalendar.in
SUMMARY:12th BBCF – International Below 1700 FIDE Rated Open Chess Tournament
DESCRIPTION:Download Brochure
URL:https://chesscalendar.in/event/12th-bbcf-international-below-1700-fide-rated-open-chess-tournament/
LOCATION:Jawaharlal Nehru Stadium\, Periamet\, Chennai – 600003\, Jawaharlal Nehru Stadium\, Chennai\, Tamilnadu\, 600003\, India
CATEGORIES:Standard
END:VEVENT
END:VCALENDAR