BEGIN:VCALENDAR
VERSION:2.0
PRODID:-//Chess Calendar - ECPv6.15.17//NONSGML v1.0//EN
CALSCALE:GREGORIAN
METHOD:PUBLISH
X-WR-CALNAME:Chess Calendar
X-ORIGINAL-URL:https://chesscalendar.in
X-WR-CALDESC:Events for Chess Calendar
REFRESH-INTERVAL;VALUE=DURATION:PT1H
X-Robots-Tag:noindex
X-PUBLISHED-TTL:PT1H
BEGIN:VTIMEZONE
TZID:Asia/Kolkata
BEGIN:STANDARD
TZOFFSETFROM:+0530
TZOFFSETTO:+0530
TZNAME:IST
DTSTART:20250101T000000
END:STANDARD
END:VTIMEZONE
BEGIN:VEVENT
DTSTART;TZID=Asia/Kolkata:20260225T080000
DTEND;TZID=Asia/Kolkata:20260301T170000
DTSTAMP:20260420T185221
CREATED:20260223T043445Z
LAST-MODIFIED:20260223T093432Z
UID:28-1772006400-1772384400@chesscalendar.in
SUMMARY:Warrior Chess Academy – International 2nd FIDE Open Chess Tournament
DESCRIPTION:Download Brochure
URL:https://chesscalendar.in/event/warrior-chess-academy-international-2nd-fide-open-chess-tournament/
LOCATION:Nehru Stadium Chennai\, Chennai\, Tamilnadu\, India
CATEGORIES:Standard
END:VEVENT
BEGIN:VEVENT
DTSTART;TZID=Asia/Kolkata:20260225T080000
DTEND;TZID=Asia/Kolkata:20260301T170000
DTSTAMP:20260420T185221
CREATED:20260223T093226Z
LAST-MODIFIED:20260223T093226Z
UID:120-1772006400-1772384400@chesscalendar.in
SUMMARY:13th National Amateur Chess Championship 2026
DESCRIPTION:Download Brochure
URL:https://chesscalendar.in/event/13th-national-amateur-chess-championship-2026/
LOCATION:Adhiyaman College of Engineering Hosur – Krishnagiri (Dt.) – 635109\, Adhiyaman College of Engineering Hosur - Krishnagiri (Dt.)\, Hosur\, Tamilnadu\, 635109\, India
CATEGORIES:Standard
END:VEVENT
BEGIN:VEVENT
DTSTART;TZID=Asia/Kolkata:20260316T080000
DTEND;TZID=Asia/Kolkata:20260322T170000
DTSTAMP:20260420T185221
CREATED:20260309T123745Z
LAST-MODIFIED:20260309T123745Z
UID:178-1773648000-1774198800@chesscalendar.in
SUMMARY:CHIEF MINISTER CHHATTISGARH TROPHY 45th National Team Chess Championship 2026
DESCRIPTION:Download Brochure
URL:https://chesscalendar.in/event/chief-minister-chhattisgarh-trophy-45th-national-team-chess-championship-2026/
LOCATION:Agrasen Dham\, Chhokara\, Nara\, Raipur\, Chhattisgarh 492001\, Agrasen Dham\, Chhokara\, Nara\, Raipur\, Chhattisgarh\, 492001\, India
CATEGORIES:Standard
ORGANIZER;CN="Chhattisgarh State Chess Association":MAILTO:chhattisgarhstatechess@gmail.com
END:VEVENT
BEGIN:VEVENT
DTSTART;TZID=Asia/Kolkata:20260319T080000
DTEND;TZID=Asia/Kolkata:20260322T170000
DTSTAMP:20260420T185221
CREATED:20260309T124433Z
LAST-MODIFIED:20260309T124810Z
UID:183-1773907200-1774198800@chesscalendar.in
SUMMARY:The 3rd Xaverian International FIDE Rating Open Chess Tournament
DESCRIPTION:Download Brochure
URL:https://chesscalendar.in/event/the-3rd-xaverian-international-fide-rating-open-chess-tournament/
LOCATION:Lebeau Auditorium\, St. Xavier's College\, Palayamkottai\, Tamilnadu\, 627002\, India
CATEGORIES:Standard
END:VEVENT
BEGIN:VEVENT
DTSTART;TZID=Asia/Kolkata:20260320T080000
DTEND;TZID=Asia/Kolkata:20260325T170000
DTSTAMP:20260420T185221
CREATED:20260309T125304Z
LAST-MODIFIED:20260309T125816Z
UID:188-1773993600-1774458000@chesscalendar.in
SUMMARY:7TH DD-DBCA OPEN FIDE RATING CHESS TOURNAMENT (Above 1600)
DESCRIPTION:Download Brochure
URL:https://chesscalendar.in/event/7th-dd-dbca-open-fide-rating-chess-tournament-above-1600/
LOCATION:Dhanuka Dhunseri Dibyendu Barua Chess Academy 26\, Chakraberia Lane\, Kolkata-20\, Dhanuka Dhunseri Dibyendu Barua Chess Academy\, Kolkata\, West Bengal\, India
CATEGORIES:Standard
ORGANIZER;CN="Dhanuka Dhunseri Dibyendu Barua Chess Academy":MAILTO:events.dddbca@gmail.com
END:VEVENT
BEGIN:VEVENT
DTSTART;TZID=Asia/Kolkata:20260323T080000
DTEND;TZID=Asia/Kolkata:20260331T170000
DTSTAMP:20260420T185221
CREATED:20260311T124634Z
LAST-MODIFIED:20260311T124634Z
UID:222-1774252800-1774976400@chesscalendar.in
SUMMARY:2nd Khelo Chess India Classical Fide Rating Chess Tournament 2026
DESCRIPTION:Download Brochure
URL:https://chesscalendar.in/event/2nd-khelo-chess-india-classical-fide-rating-chess-tournament-2026/
LOCATION:Sage International School\, Kolar Road Bhopal\, Sage International School\, Bhopal\, Madhya Pradesh\, India
CATEGORIES:Standard
END:VEVENT
BEGIN:VEVENT
DTSTART;TZID=Asia/Kolkata:20260324T080000
DTEND;TZID=Asia/Kolkata:20260329T170000
DTSTAMP:20260420T185221
CREATED:20260311T124917Z
LAST-MODIFIED:20260311T124917Z
UID:227-1774339200-1774803600@chesscalendar.in
SUMMARY:SIVASAGAR OPEN 2026
DESCRIPTION:Download Brochure
URL:https://chesscalendar.in/event/sivasagar-open-2026/
LOCATION:Milan Mondir\, A.T. Road\, Near ASTC\, Sivasagar\, Assam\, Milon Mondir\, Sivasagar\, Assam\, India
CATEGORIES:Standard
END:VEVENT
BEGIN:VEVENT
DTSTART;TZID=Asia/Kolkata:20260325T080000
DTEND;TZID=Asia/Kolkata:20260329T170000
DTSTAMP:20260420T185221
CREATED:20260311T125325Z
LAST-MODIFIED:20260311T125507Z
UID:232-1774425600-1774803600@chesscalendar.in
SUMMARY:BIHAR OPEN FIDE RATING CHESS TOURNAMENT – 2026
DESCRIPTION:Download Brochure
URL:https://chesscalendar.in/event/bihar-open-fide-rating-chess-tournament-2026/
LOCATION:Patliputra Sports Complex Indoor Stadium\, Kankarbagh \, Patna \, Bihar -800020\, Patliputra Sports Complex Indoor Stadium\, Patna\, Bihar\, 800020\, India
CATEGORIES:Standard
END:VEVENT
BEGIN:VEVENT
DTSTART;TZID=Asia/Kolkata:20260326T080000
DTEND;TZID=Asia/Kolkata:20260330T170000
DTSTAMP:20260420T185221
CREATED:20260311T125840Z
LAST-MODIFIED:20260311T125840Z
UID:238-1774512000-1774890000@chesscalendar.in
SUMMARY:5th IS International (Open) FIDE rated Chess Tournament-2026
DESCRIPTION:Download Brochure
URL:https://chesscalendar.in/event/5th-is-international-open-fide-rated-chess-tournament-2026/
LOCATION:JN INDOOR STADIUM CUTTACK\, ODISHA\, JN Indoor Stadium\, Cuttack\, ODISHA\, India
CATEGORIES:Standard
END:VEVENT
BEGIN:VEVENT
DTSTART;TZID=Asia/Kolkata:20260326T080000
DTEND;TZID=Asia/Kolkata:20260331T170000
DTSTAMP:20260420T185221
CREATED:20260318T112325Z
LAST-MODIFIED:20260318T112325Z
UID:246-1774512000-1774976400@chesscalendar.in
SUMMARY:International Rating Chess Fiesta (Grand Prize)
DESCRIPTION:Download Brochure
URL:https://chesscalendar.in/event/international-rating-chess-fiesta-grand-prize/
LOCATION:IDPS School\, Matador Stand Sunjwan\, Near Sainik Colony\, Jammu -180011\, IDPS School\, Matador Stand Sunjwan\, Jammu\, Jammu & Kashmir\, 180011\, India
CATEGORIES:Standard
END:VEVENT
BEGIN:VEVENT
DTSTART;TZID=Asia/Kolkata:20260327T080000
DTEND;TZID=Asia/Kolkata:20260331T170000
DTSTAMP:20260420T185221
CREATED:20260318T112942Z
LAST-MODIFIED:20260318T112942Z
UID:251-1774598400-1774976400@chesscalendar.in
SUMMARY:2ND DEWAS INTERNATIONAL FIDE CLASSICAL RATING CHESS TOURNAMENT 2026
DESCRIPTION:Download Brochure
URL:https://chesscalendar.in/event/2nd-dewas-international-fide-classical-rating-chess-tournament-2026/
LOCATION:INDOOR STADIUM KUSHABHAU THAKRE STADIUM\, DEWAS MADHYA PRADESH\, Indoor Stadium Kushabhau Thakre Stadium\, Dewas\, Madhya Pradesh\, India
CATEGORIES:Standard
END:VEVENT
BEGIN:VEVENT
DTSTART;TZID=Asia/Kolkata:20260327T080000
DTEND;TZID=Asia/Kolkata:20260401T170000
DTSTAMP:20260420T185221
CREATED:20260318T113619Z
LAST-MODIFIED:20260318T113619Z
UID:256-1774598400-1775062800@chesscalendar.in
SUMMARY:33rd RCC STS INTERNATIONAL FIDE RATED CLASSICAL CHESS CUP
DESCRIPTION:Download Brochure
URL:https://chesscalendar.in/event/33rd-rcc-sts-international-fide-rated-classical-chess-cup/
LOCATION:St.Theresas School\, Bethany Institution\, Bendur\, Mangalore\, St. Theresas School\, Mangalore\, Kar\, India
CATEGORIES:Blitz,Rapid,Standard
END:VEVENT
BEGIN:VEVENT
DTSTART;TZID=Asia/Kolkata:20260328T080000
DTEND;TZID=Asia/Kolkata:20260402T170000
DTSTAMP:20260420T185221
CREATED:20260318T115003Z
LAST-MODIFIED:20260318T115003Z
UID:270-1774684800-1775149200@chesscalendar.in
SUMMARY:All India Chess Masters-Season 3\, Mumbai Classical Chess Tournament\, 2026
DESCRIPTION:Download Brochure
URL:https://chesscalendar.in/event/all-india-chess-masters-season-3-mumbai-classical-chess-tournament-2026/
LOCATION:Mumbai Chess Centre\, Russian House\, Pedder road\, IT colony\, Mumbai\, Mumbai Chess Centre\, Russian House\, Mumbai\, Maharashtra\, India
CATEGORIES:Standard
END:VEVENT
BEGIN:VEVENT
DTSTART;TZID=Asia/Kolkata:20260330T080000
DTEND;TZID=Asia/Kolkata:20260407T170000
DTSTAMP:20260420T185221
CREATED:20260327T101351Z
LAST-MODIFIED:20260327T101351Z
UID:306-1774857600-1775581200@chesscalendar.in
SUMMARY:National Under-17 Chess Championship 2025-26
DESCRIPTION:Download Brochure
URL:https://chesscalendar.in/event/national-under-17-chess-championship-2025-26/
LOCATION:Rajpath Club\, S.G.Highway\, Ahmedabad\, Rajpath Club\, Ahmedabad\, Gujarat\, India
CATEGORIES:Standard
END:VEVENT
END:VCALENDAR