BEGIN:VCALENDAR
VERSION:2.0
PRODID:-//Chess Calendar - ECPv6.15.17//NONSGML v1.0//EN
CALSCALE:GREGORIAN
METHOD:PUBLISH
X-ORIGINAL-URL:https://chesscalendar.in
X-WR-CALDESC:Events for Chess Calendar
REFRESH-INTERVAL;VALUE=DURATION:PT1H
X-Robots-Tag:noindex
X-PUBLISHED-TTL:PT1H
BEGIN:VTIMEZONE
TZID:Asia/Kolkata
BEGIN:STANDARD
TZOFFSETFROM:+0530
TZOFFSETTO:+0530
TZNAME:IST
DTSTART:20250101T000000
END:STANDARD
END:VTIMEZONE
BEGIN:VEVENT
DTSTART;TZID=Asia/Kolkata:20260517T080000
DTEND;TZID=Asia/Kolkata:20260517T170000
DTSTAMP:20260423T032221
CREATED:20260422T102007Z
LAST-MODIFIED:20260422T102007Z
UID:470-1779004800-1779037200@chesscalendar.in
SUMMARY:1st Power Chess Academy All lndia Open FIDE Rapid Rating Chess Tournament 2026
DESCRIPTION:Download Brochure
URL:https://chesscalendar.in/event/1st-power-chess-academy-all-lndia-open-fide-rapid-rating-chess-tournament-2026/
LOCATION:Tirupati Lawn & Resorts Risod Road Dist Washim\, Tirupati Lawn & Resorts Risod Road Dist Washim\, Maharashtra\, India
CATEGORIES:Rapid
ORGANIZER;CN="Power Chess Academy & Chess Association Washim":MAILTO:powerchessacademy@gmail.com
END:VEVENT
END:VCALENDAR