BEGIN:VCALENDAR
VERSION:2.0
PRODID:-//Chess Calendar - ECPv6.15.17//NONSGML v1.0//EN
CALSCALE:GREGORIAN
METHOD:PUBLISH
X-WR-CALNAME:Chess Calendar
X-ORIGINAL-URL:https://chesscalendar.in
X-WR-CALDESC:Events for Chess Calendar
REFRESH-INTERVAL;VALUE=DURATION:PT1H
X-Robots-Tag:noindex
X-PUBLISHED-TTL:PT1H
BEGIN:VTIMEZONE
TZID:Asia/Kolkata
BEGIN:STANDARD
TZOFFSETFROM:+0530
TZOFFSETTO:+0530
TZNAME:IST
DTSTART:20250101T000000
END:STANDARD
END:VTIMEZONE
BEGIN:VEVENT
DTSTART;TZID=Asia/Kolkata:20260502T080000
DTEND;TZID=Asia/Kolkata:20260503T170000
DTSTAMP:20260422T200356
CREATED:20260408T134635Z
LAST-MODIFIED:20260408T134635Z
UID:393-1777708800-1777827600@chesscalendar.in
SUMMARY:Mary Cherian Memorial International FIDE Rated Open Chess Tournament
DESCRIPTION:Download Brochure
URL:https://chesscalendar.in/event/mary-cherian-memorial-international-fide-rated-open-chess-tournament/
LOCATION:Shri Ram College of Commerce\, SRCC\, Delhi\, Shri Ram College of Commerce\, Delhi\, Delhi\, India
CATEGORIES:Rapid
END:VEVENT
BEGIN:VEVENT
DTSTART;TZID=Asia/Kolkata:20260502T080000
DTEND;TZID=Asia/Kolkata:20260503T170000
DTSTAMP:20260422T200356
CREATED:20260408T135450Z
LAST-MODIFIED:20260408T135450Z
UID:400-1777708800-1777827600@chesscalendar.in
SUMMARY:2nd Dehradun Open – FIDE Rated Rapid Chess Championship 2026
DESCRIPTION:Download Brochure
URL:https://chesscalendar.in/event/2nd-dehradun-open-fide-rated-rapid-chess-championship-2026/
LOCATION:Mall of Dehradun\, Mall of Dehradun\, Dehradun\, Uttarakhand\, India
CATEGORIES:Rapid
ORGANIZER;CN="MAll of Dehradun & Chess Knight Academy":MAILTO:chessknightacademy@gmail.com
END:VEVENT
END:VCALENDAR