BEGIN:VCALENDAR
VERSION:2.0
PRODID:-//Chess Calendar - ECPv6.15.17//NONSGML v1.0//EN
CALSCALE:GREGORIAN
METHOD:PUBLISH
X-ORIGINAL-URL:https://chesscalendar.in
X-WR-CALDESC:Events for Chess Calendar
REFRESH-INTERVAL;VALUE=DURATION:PT1H
X-Robots-Tag:noindex
X-PUBLISHED-TTL:PT1H
BEGIN:VTIMEZONE
TZID:Asia/Kolkata
BEGIN:STANDARD
TZOFFSETFROM:+0530
TZOFFSETTO:+0530
TZNAME:IST
DTSTART:20250101T000000
END:STANDARD
END:VTIMEZONE
BEGIN:VEVENT
DTSTART;TZID=Asia/Kolkata:20260321T080000
DTEND;TZID=Asia/Kolkata:20260322T170000
DTSTAMP:20260422T214644
CREATED:20260311T121316Z
LAST-MODIFIED:20260311T121316Z
UID:200-1774080000-1774198800@chesscalendar.in
SUMMARY:Crown square chess academy organizes 1st International Rapid chess Tournament
DESCRIPTION:Download Brochure
URL:https://chesscalendar.in/event/crown-square-chess-academy-organizes-1st-international-rapid-chess-tournament/
LOCATION:SAMA INDOOR SPORTS COMPLEX VADODARA\, Sama Indoor Sports Complex\, Vadodara\, Gujarat\, India
CATEGORIES:Rapid
END:VEVENT
BEGIN:VEVENT
DTSTART;TZID=Asia/Kolkata:20260321T080000
DTEND;TZID=Asia/Kolkata:20260322T170000
DTSTAMP:20260422T214644
CREATED:20260311T122145Z
LAST-MODIFIED:20260311T122145Z
UID:205-1774080000-1774198800@chesscalendar.in
SUMMARY:3rd MAHARATHI INTERNATIONAL OPEN RAPID & BLITZ FIDE RATED CHESS TOURNAMENT 2026
DESCRIPTION:Download Brochure
URL:https://chesscalendar.in/event/3rd-maharathi-international-open-rapid-blitz-fide-rated-chess-tournament-2026/
LOCATION:THYAGRAJ STADIUM\, INA COLONY\, NEW DELHI\, DELHI 110003\, Thyagraj Stadium\, INA Colony\, New Delhi\, Delhi\, 110003\, India
CATEGORIES:Blitz,Rapid
ORGANIZER;CN="MAHARATHI CHESS ACADEMY":MAILTO:maharathichesstournaments@gmail.com
END:VEVENT
BEGIN:VEVENT
DTSTART;TZID=Asia/Kolkata:20260321T080000
DTEND;TZID=Asia/Kolkata:20260322T170000
DTSTAMP:20260422T214644
CREATED:20260311T122809Z
LAST-MODIFIED:20260311T122809Z
UID:212-1774080000-1774198800@chesscalendar.in
SUMMARY:1st GH Raisoni Ujjain Rapid Rating Chess Tournament 2026
DESCRIPTION:Download Brochure
URL:https://chesscalendar.in/event/1st-gh-raisoni-ujjain-rapid-rating-chess-tournament-2026/
LOCATION:Stanford	International	School\,	Ujjain\,	Madhya	Pradesh\, Stanford International School\, Ujjain\, Madhya Pradesh\, India
CATEGORIES:Rapid
ORGANIZER;CN="Ujjaini%09Zila%09Shatranj%09Sangh%2CG%09H%09%09Raisoni%09Sports%09and%09Cultural%09Foundation%09& %09Kalpana%09Prakash%09Welfare%09Foundation":MAILTO:kalpanaprakashwelfarefoundation@yahoo.com
END:VEVENT
END:VCALENDAR