BEGIN:VCALENDAR
VERSION:2.0
PRODID:-//Chess Calendar - ECPv6.15.17//NONSGML v1.0//EN
CALSCALE:GREGORIAN
METHOD:PUBLISH
X-ORIGINAL-URL:https://chesscalendar.in
X-WR-CALDESC:Events for Chess Calendar
REFRESH-INTERVAL;VALUE=DURATION:PT1H
X-Robots-Tag:noindex
X-PUBLISHED-TTL:PT1H
BEGIN:VTIMEZONE
TZID:Asia/Kolkata
BEGIN:STANDARD
TZOFFSETFROM:+0530
TZOFFSETTO:+0530
TZNAME:IST
DTSTART:20250101T000000
END:STANDARD
END:VTIMEZONE
BEGIN:VEVENT
DTSTART;TZID=Asia/Kolkata:20260301T080000
DTEND;TZID=Asia/Kolkata:20260301T170000
DTSTAMP:20260422T214602
CREATED:20260223T094722Z
LAST-MODIFIED:20260223T094722Z
UID:136-1772352000-1772384400@chesscalendar.in
SUMMARY:Smart Chess Academy 3rd International Open FIDE RAPID Rating Chess Tournament
DESCRIPTION:Download Brochure
URL:https://chesscalendar.in/event/smart-chess-academy-3rd-international-open-fide-rapid-rating-chess-tournament/
LOCATION:Karpaga Mahal\, Vennaimalai\, Kadhapparai (po)\, Karur – 639 006\, Karpaga Mahal\, Vennaimalai\, Karur\, Tamilnadu\, 639006\, India
CATEGORIES:Rapid
END:VEVENT
END:VCALENDAR