BEGIN:VCALENDAR
VERSION:2.0
PRODID:-//Chess Calendar - ECPv6.15.17//NONSGML v1.0//EN
CALSCALE:GREGORIAN
METHOD:PUBLISH
X-WR-CALNAME:Chess Calendar
X-ORIGINAL-URL:https://chesscalendar.in
X-WR-CALDESC:Events for Chess Calendar
REFRESH-INTERVAL;VALUE=DURATION:PT1H
X-Robots-Tag:noindex
X-PUBLISHED-TTL:PT1H
BEGIN:VTIMEZONE
TZID:Asia/Kolkata
BEGIN:STANDARD
TZOFFSETFROM:+0530
TZOFFSETTO:+0530
TZNAME:IST
DTSTART:20250101T000000
END:STANDARD
END:VTIMEZONE
BEGIN:VEVENT
DTSTART;TZID=Asia/Kolkata:20260401T080000
DTEND;TZID=Asia/Kolkata:20260405T170000
DTSTAMP:20260422T180338
CREATED:20260327T101711Z
LAST-MODIFIED:20260327T101711Z
UID:311-1775030400-1775408400@chesscalendar.in
SUMMARY:Eight Square Chess Academy – 2nd International FIDE Rated Open & Blitz Chess Tournament – 2026
DESCRIPTION:Download Brochure
URL:https://chesscalendar.in/event/eight-square-chess-academy-2nd-international-fide-rated-open-blitz-chess-tournament-2026/
LOCATION:Hall of Chess\, Jawaharlal Nehru Stadium\, Chennai\, Hall of Chess\, Jawaharlal Nehru Stadium\, Chennai\, Tamilnadu\, India
CATEGORIES:Blitz,Standard
ORGANIZER;CN="EIGHT SQUARE CHESS ACADEMY":MAILTO:chessacademy32@gmail.com
END:VEVENT
BEGIN:VEVENT
DTSTART;TZID=Asia/Kolkata:20260330T080000
DTEND;TZID=Asia/Kolkata:20260331T170000
DTSTAMP:20260422T180338
CREATED:20260327T101001Z
LAST-MODIFIED:20260327T101001Z
UID:301-1774857600-1774976400@chesscalendar.in
SUMMARY:37th RCC INTERNATIONAL FIDE RATED BLITZ CHESS CUP
DESCRIPTION:Download Brochure
URL:https://chesscalendar.in/event/37th-rcc-international-fide-rated-blitz-chess-cup/
LOCATION:ST.THERESAS SCHOOL\, BETHANY INSTITUTION\, BENDUR\, MANGALORE\, 575002\, St. Theresas School\, Mangalore\, Karnataka\, 575002\, India
CATEGORIES:Blitz
END:VEVENT
BEGIN:VEVENT
DTSTART;TZID=Asia/Kolkata:20260328T080000
DTEND;TZID=Asia/Kolkata:20260329T170000
DTSTAMP:20260422T180338
CREATED:20260318T114109Z
LAST-MODIFIED:20260318T114109Z
UID:262-1774684800-1774803600@chesscalendar.in
SUMMARY:Purba Medinipur International Rapid Rating Chess Tournament 2026
DESCRIPTION:Download Brochure
URL:https://chesscalendar.in/event/purba-medinipur-international-rapid-rating-chess-tournament-2026/
LOCATION:HALDIA REFINERY EMPLOYEES CLUB\, HALDIA TOWNSHIP\, PURBA MEDINIPUR PIN- 721607\, Haldia Refinary Employees Club\, Haldia Township\, Purba Medinipur\, Haldia\, West Bengal\, India
CATEGORIES:Blitz,Rapid
END:VEVENT
BEGIN:VEVENT
DTSTART;TZID=Asia/Kolkata:20260327T080000
DTEND;TZID=Asia/Kolkata:20260401T170000
DTSTAMP:20260422T180338
CREATED:20260318T113619Z
LAST-MODIFIED:20260318T113619Z
UID:256-1774598400-1775062800@chesscalendar.in
SUMMARY:33rd RCC STS INTERNATIONAL FIDE RATED CLASSICAL CHESS CUP
DESCRIPTION:Download Brochure
URL:https://chesscalendar.in/event/33rd-rcc-sts-international-fide-rated-classical-chess-cup/
LOCATION:St.Theresas School\, Bethany Institution\, Bendur\, Mangalore\, St. Theresas School\, Mangalore\, Kar\, India
CATEGORIES:Blitz,Rapid,Standard
END:VEVENT
BEGIN:VEVENT
DTSTART;TZID=Asia/Kolkata:20260322T080000
DTEND;TZID=Asia/Kolkata:20260322T170000
DTSTAMP:20260422T180338
CREATED:20260311T123506Z
LAST-MODIFIED:20260311T123506Z
UID:217-1774166400-1774198800@chesscalendar.in
SUMMARY:2nd MAHE BLR All-India Open FIDE Rated Blitz Chess Tournament-2026
DESCRIPTION:Download Brochure
URL:https://chesscalendar.in/event/2nd-mahe-blr-all-india-open-fide-rated-blitz-chess-tournament-2026/
LOCATION:Manipal Academy of Higher Education\, MAHE Bengaluru\, Manipal Academy of Higher Education\, Bengaluru\, Karnataka\, India
CATEGORIES:Blitz
ORGANIZER;CN="Manipal Institute of Technology Bengaluru Under the auspices of FIDE%2C AICF%2C KSCA%2C BUDCA":MAILTO:k.manasa@manipal.edu
END:VEVENT
BEGIN:VEVENT
DTSTART;TZID=Asia/Kolkata:20260321T080000
DTEND;TZID=Asia/Kolkata:20260322T170000
DTSTAMP:20260422T180338
CREATED:20260311T122145Z
LAST-MODIFIED:20260311T122145Z
UID:205-1774080000-1774198800@chesscalendar.in
SUMMARY:3rd MAHARATHI INTERNATIONAL OPEN RAPID & BLITZ FIDE RATED CHESS TOURNAMENT 2026
DESCRIPTION:Download Brochure
URL:https://chesscalendar.in/event/3rd-maharathi-international-open-rapid-blitz-fide-rated-chess-tournament-2026/
LOCATION:THYAGRAJ STADIUM\, INA COLONY\, NEW DELHI\, DELHI 110003\, Thyagraj Stadium\, INA Colony\, New Delhi\, Delhi\, 110003\, India
CATEGORIES:Blitz,Rapid
ORGANIZER;CN="MAHARATHI CHESS ACADEMY":MAILTO:maharathichesstournaments@gmail.com
END:VEVENT
BEGIN:VEVENT
DTSTART;TZID=Asia/Kolkata:20260311T080000
DTEND;TZID=Asia/Kolkata:20260312T170000
DTSTAMP:20260422T180338
CREATED:20260223T105547Z
LAST-MODIFIED:20260223T105547Z
UID:153-1773216000-1773334800@chesscalendar.in
SUMMARY:National Rapid Chess Championship 2025-26
DESCRIPTION:Download Brochure
URL:https://chesscalendar.in/event/national-rapid-chess-championship-2025-26/
LOCATION:SaralaBirla University BirlaKnowledgeCity\,PuruliaRoad\,Mahilong\, Ranchi – 835103 (Jharkhand)\, Sarala Birla University\, Ranchi\, Jharkhand\, 835103\, India
CATEGORIES:Blitz,Rapid
END:VEVENT
BEGIN:VEVENT
DTSTART;TZID=Asia/Kolkata:20260301T080000
DTEND;TZID=Asia/Kolkata:20260301T170000
DTSTAMP:20260422T180338
CREATED:20260223T095129Z
LAST-MODIFIED:20260223T095129Z
UID:141-1772352000-1772384400@chesscalendar.in
SUMMARY:Little England 1st International FIDE Rated Blitz Open Chess Tournament – 2026
DESCRIPTION:Download Brochure
URL:https://chesscalendar.in/event/little-england-1st-international-fide-rated-blitz-open-chess-tournament-2026/
LOCATION:Adhiyamaan College of Engineering Dr. MGR Nagar\, Hosur\, Krishnagiri – 635110\, Adhiyamaan College of Engineering Dr. MGR Nagar\, Hosur\, Tamilnadu\, India
CATEGORIES:Blitz
END:VEVENT
END:VCALENDAR