BEGIN:VCALENDAR
VERSION:2.0
PRODID:-//Chess Calendar - ECPv6.15.17//NONSGML v1.0//EN
CALSCALE:GREGORIAN
METHOD:PUBLISH
X-WR-CALNAME:Chess Calendar
X-ORIGINAL-URL:https://chesscalendar.in
X-WR-CALDESC:Events for Chess Calendar
REFRESH-INTERVAL;VALUE=DURATION:PT1H
X-Robots-Tag:noindex
X-PUBLISHED-TTL:PT1H
BEGIN:VTIMEZONE
TZID:Asia/Kolkata
BEGIN:STANDARD
TZOFFSETFROM:+0530
TZOFFSETTO:+0530
TZNAME:IST
DTSTART:20250101T000000
END:STANDARD
END:VTIMEZONE
BEGIN:VEVENT
DTSTART;TZID=Asia/Kolkata:20260420T080000
DTEND;TZID=Asia/Kolkata:20260424T170000
DTSTAMP:20260420T083404
CREATED:20260403T125309Z
LAST-MODIFIED:20260403T125309Z
UID:344-1776672000-1777050000@chesscalendar.in
SUMMARY:Shakti Grandeur 9.0 International Open Fide Rating Chess Tournament 2026
DESCRIPTION:Download Brochure
URL:https://chesscalendar.in/event/shakti-grandeur-9-0-international-open-fide-rating-chess-tournament-2026/
LOCATION:Shakti Sports Club\, Shakti greens & banquets\, Vadodara\, Gujarat\, India
CATEGORIES:Blitz,Rapid,Standard
ORGANIZER;CN="Dhruvik Chess Academy":MAILTO:uvikchessacademy@gmail.com
END:VEVENT
BEGIN:VEVENT
DTSTART;TZID=Asia/Kolkata:20260422T080000
DTEND;TZID=Asia/Kolkata:20260426T170000
DTSTAMP:20260420T083404
CREATED:20260403T125837Z
LAST-MODIFIED:20260403T125837Z
UID:349-1776844800-1777222800@chesscalendar.in
SUMMARY:2nd Late Shri Dhiraj Singh Raghuvanshi Memorial Fide Rating Open Chess Tournament
DESCRIPTION:Download Brochure
URL:https://chesscalendar.in/event/2nd-late-shri-dhiraj-singh-raghuvanshi-memorial-fide-rating-open-chess-tournament/
LOCATION:Shivalik Hall\, Manoj Sarkar Stadium RUDRAPUR\, UTTARAKHAND\, Shivalik Hall\, Manoj Sarkar stadium\, Rudrapur\, Uttarakhand\, 263153\, India
CATEGORIES:Standard
END:VEVENT
BEGIN:VEVENT
DTSTART;TZID=Asia/Kolkata:20260422T080000
DTEND;TZID=Asia/Kolkata:20260426T170000
DTSTAMP:20260420T083404
CREATED:20260403T130402Z
LAST-MODIFIED:20260403T130402Z
UID:354-1776844800-1777222800@chesscalendar.in
SUMMARY:9th CHESSMII INTERNATIONAL OPEN FIDE RATED CHESS TOURNAMENT
DESCRIPTION:Download Brochure
URL:https://chesscalendar.in/event/9th-chessmii-international-open-fide-rated-chess-tournament/
LOCATION:SANJOS METROPOLITAN SCHOOL\, HOLLOWAY RD\, PALISSERY\, THALASSERY\, KANNUR\, KERALA\, Sanjos Metropolitan school\, Kannur\, Kerala\, India
CATEGORIES:Standard
END:VEVENT
BEGIN:VEVENT
DTSTART;TZID=Asia/Kolkata:20260425T080000
DTEND;TZID=Asia/Kolkata:20260426T170000
DTSTAMP:20260420T083404
CREATED:20260408T130603Z
LAST-MODIFIED:20260408T130603Z
UID:368-1777104000-1777222800@chesscalendar.in
SUMMARY:2nd Pune International Speed Festival 2026 – Rapid Rating Chess Tournament
DESCRIPTION:Download Brochure
URL:https://chesscalendar.in/event/2nd-pune-international-speed-festival-2026-rapid-rating-chess-tournament/
LOCATION:EuroSchool Wakad – CBSE School\, Euro School\, Pune\, Maharashtra\, India
CATEGORIES:Blitz,Rapid
ORGANIZER;CN="8x8 Chess Academy":MAILTO:8x8chessacademy@gmail.com
END:VEVENT
BEGIN:VEVENT
DTSTART;TZID=Asia/Kolkata:20260425T080000
DTEND;TZID=Asia/Kolkata:20260427T170000
DTSTAMP:20260420T083404
CREATED:20260408T125543Z
LAST-MODIFIED:20260408T125543Z
UID:365-1777104000-1777309200@chesscalendar.in
SUMMARY:Warrior Chess Academy – International 2nd FIDE Rated Open Chess Tournament for Below 1650
DESCRIPTION:Download Brochure
URL:https://chesscalendar.in/event/warrior-chess-academy-international-2nd-fide-rated-open-chess-tournament-for-below-1650/
LOCATION:Nehru Stadium Chennai\, Chennai\, Tamilnadu\, India
CATEGORIES:Standard
END:VEVENT
BEGIN:VEVENT
DTSTART;TZID=Asia/Kolkata:20260426T080000
DTEND;TZID=Asia/Kolkata:20260426T170000
DTSTAMP:20260420T083404
CREATED:20260408T132050Z
LAST-MODIFIED:20260408T132050Z
UID:373-1777190400-1777222800@chesscalendar.in
SUMMARY:ICC International FIDE Rapid Rating Open Chess Tournament 2026 – 5th Edition
DESCRIPTION:Download Brochure
URL:https://chesscalendar.in/event/icc-international-fide-rapid-rating-open-chess-tournament-2026-5th-edition/
LOCATION:Sri Venkatalakshmi Kalyana Mandapam\, Sri Venkatalakshmi Kalyana Mandapam\, Coimbatore\, Tamilnadu\, 641005\, India
CATEGORIES:Rapid
END:VEVENT
BEGIN:VEVENT
DTSTART;TZID=Asia/Kolkata:20260429T080000
DTEND;TZID=Asia/Kolkata:20260503T170000
DTSTAMP:20260420T083404
CREATED:20260408T132800Z
LAST-MODIFIED:20260408T132800Z
UID:378-1777449600-1777827600@chesscalendar.in
SUMMARY:5th KPK International FIDE Rating Open Chess Tournament 2026
DESCRIPTION:Download Brochure
URL:https://chesscalendar.in/event/5th-kpk-international-fide-rating-open-chess-tournament-2026/
LOCATION:HARVEY KUMARASAMY KALYANA MANDAPАM\, HARVEY KUMARASAMY KALYANA MANDAPАM\, Tiruppurr\, Tamilnadu\, 641602\, India
CATEGORIES:Standard
END:VEVENT
BEGIN:VEVENT
DTSTART;TZID=Asia/Kolkata:20260430T080000
DTEND;TZID=Asia/Kolkata:20260503T170000
DTSTAMP:20260420T083404
CREATED:20260408T133209Z
LAST-MODIFIED:20260408T133209Z
UID:383-1777536000-1777827600@chesscalendar.in
SUMMARY:SRM 2nd International FIDE Rating Open Chess Tournament 2026
DESCRIPTION:Download Brochure
URL:https://chesscalendar.in/event/srm-2nd-international-fide-rating-open-chess-tournament-2026/
LOCATION:PADMA BHUSHAN MAJOR DHYAN CHAND INDOOR STADIUM\,\, PADMA BHUSHAN MAJOR DHYAN CHAND INDOOR STADIUM\, Chengalpattu\, Tamilnadu\, India
CATEGORIES:Standard
END:VEVENT
BEGIN:VEVENT
DTSTART;TZID=Asia/Kolkata:20260430T080000
DTEND;TZID=Asia/Kolkata:20260504T170000
DTSTAMP:20260420T083404
CREATED:20260408T133939Z
LAST-MODIFIED:20260408T133939Z
UID:388-1777536000-1777914000@chesscalendar.in
SUMMARY:Hyderabad All India Open FIDE Rating Chess Tournament 2026
DESCRIPTION:Download Brochure
URL:https://chesscalendar.in/event/hyderabad-all-india-open-fide-rating-chess-tournament-2026/
LOCATION:Saroor Nagar Indoor Stadium\, Saroor Nagar Indoor Stadium\, Hyderabad\, Hyderabad\, India
CATEGORIES:Standard
END:VEVENT
BEGIN:VEVENT
DTSTART;TZID=Asia/Kolkata:20260502T080000
DTEND;TZID=Asia/Kolkata:20260503T170000
DTSTAMP:20260420T083404
CREATED:20260408T134635Z
LAST-MODIFIED:20260408T134635Z
UID:393-1777708800-1777827600@chesscalendar.in
SUMMARY:Mary Cherian Memorial International FIDE Rated Open Chess Tournament
DESCRIPTION:Download Brochure
URL:https://chesscalendar.in/event/mary-cherian-memorial-international-fide-rated-open-chess-tournament/
LOCATION:Shri Ram College of Commerce\, SRCC\, Delhi\, Shri Ram College of Commerce\, Delhi\, Delhi\, India
CATEGORIES:Rapid
END:VEVENT
BEGIN:VEVENT
DTSTART;TZID=Asia/Kolkata:20260502T080000
DTEND;TZID=Asia/Kolkata:20260503T170000
DTSTAMP:20260420T083404
CREATED:20260408T135450Z
LAST-MODIFIED:20260408T135450Z
UID:400-1777708800-1777827600@chesscalendar.in
SUMMARY:2nd Dehradun Open – FIDE Rated Rapid Chess Championship 2026
DESCRIPTION:Download Brochure
URL:https://chesscalendar.in/event/2nd-dehradun-open-fide-rated-rapid-chess-championship-2026/
LOCATION:Mall of Dehradun\, Mall of Dehradun\, Dehradun\, Uttarakhand\, India
CATEGORIES:Rapid
ORGANIZER;CN="MAll of Dehradun & Chess Knight Academy":MAILTO:chessknightacademy@gmail.com
END:VEVENT
BEGIN:VEVENT
DTSTART;TZID=Asia/Kolkata:20260504T080000
DTEND;TZID=Asia/Kolkata:20260508T170000
DTSTAMP:20260420T083404
CREATED:20260410T101204Z
LAST-MODIFIED:20260410T101204Z
UID:407-1777881600-1778259600@chesscalendar.in
SUMMARY:1st Sri Krish International Open FIDE Rating Chess Tournament
DESCRIPTION:Download Brochure
URL:https://chesscalendar.in/event/1st-sri-krish-international-open-fide-rating-chess-tournament/
LOCATION:Sri Krish International School 1/191 A\, Rajiv Gandhi Nagar\,\, Sri Krish International School 1/191 A\, Rajiv Gandhi Nagar\,\, KANCHIPURAM\, Tamilnadu\, 600128\, India
CATEGORIES:Standard
ORGANIZER;CN="Vijay Anand Chess Academy":MAILTO:VIJAYANANDCHESSACADEMY@GMAIL.COM
END:VEVENT
BEGIN:VEVENT
DTSTART;TZID=Asia/Kolkata:20260504T080000
DTEND;TZID=Asia/Kolkata:20260509T170000
DTSTAMP:20260420T083404
CREATED:20260410T101530Z
LAST-MODIFIED:20260410T101530Z
UID:412-1777881600-1778346000@chesscalendar.in
SUMMARY:2nd Ramabai Ranade FIDE Classical Rating Chess Tournament Kharghar\, Navi Mumbai
DESCRIPTION:Download Brochure
URL:https://chesscalendar.in/event/2nd-ramabai-ranade-fide-classical-rating-chess-tournament-kharghar-navi-mumbai/
LOCATION:Shree Siddhi Marriage Hall\, Utkarsha building\, Sector 12\, Kharghar\, Shree Siddhi Marriage Hall\, Utkarsha building\, Navi Mumbai\, Maharashtra\, 410210\, India
CATEGORIES:Standard
ORGANIZER;CN="Anjanibai Chess Academy":MAILTO:nanda.scini@gmail.com
END:VEVENT
BEGIN:VEVENT
DTSTART;TZID=Asia/Kolkata:20260506T080000
DTEND;TZID=Asia/Kolkata:20260510T170000
DTSTAMP:20260420T083404
CREATED:20260410T101937Z
LAST-MODIFIED:20260410T101937Z
UID:417-1778054400-1778432400@chesscalendar.in
SUMMARY:1st RCA International FIDE Rating Chess Tournament-2026
DESCRIPTION:Download Brochure
URL:https://chesscalendar.in/event/1st-rca-international-fide-rating-chess-tournament-2026/
LOCATION:Velankanni Public School\, Kondungaiyur R-10\, I Block\, Muthamiz Nagar\, Velankanni Public School\, Kondungaiyur R-10\, I Block\, Muthamiz Nagar\, Kodungaiyur\, Tamilnadu\, 600118\, India
CATEGORIES:Standard
ORGANIZER;CN="Rajam Chess Academy":MAILTO:rajamchessacademy@gmail.com
END:VEVENT
BEGIN:VEVENT
DTSTART;TZID=Asia/Kolkata:20260506T080000
DTEND;TZID=Asia/Kolkata:20260510T170000
DTSTAMP:20260420T083404
CREATED:20260410T102853Z
LAST-MODIFIED:20260410T102853Z
UID:422-1778054400-1778432400@chesscalendar.in
SUMMARY:2nd CFPD Open FIDE Rating Chess Tournament 2026
DESCRIPTION:Download Brochure
URL:https://chesscalendar.in/event/2nd-cfpd-open-fide-rating-chess-tournament-2026/
LOCATION:Vignesh International School\, Vignesh International School \, Tiruvannamalai\, Tiruvannamalai\, Tamilnadu\, India
CATEGORIES:Standard
ORGANIZER;CN="Chess Federation for Physically Disabled%2C (CFPD)":MAILTO:cfpdchesstmt@gmail.com
END:VEVENT
BEGIN:VEVENT
DTSTART;TZID=Asia/Kolkata:20260506T080000
DTEND;TZID=Asia/Kolkata:20260510T170000
DTSTAMP:20260420T083404
CREATED:20260410T104725Z
LAST-MODIFIED:20260410T104725Z
UID:432-1778054400-1778432400@chesscalendar.in
SUMMARY:Ten Ten Chess Academy 1st International Fide Rated Chess Tournament – 2026
DESCRIPTION:Download Brochure
URL:https://chesscalendar.in/event/ten-ten-chess-academy-1st-international-fide-rated-chess-tournament-2026/
LOCATION:Sree lyappa Matriculation Higher Secondary School\, No. 20\, 26\, Velunaicker Street\, Sholinganallur\, Sree lyappa Matriculation Higher Secondary School\, Chennai\, Tamilnadu\, 600119\, India
CATEGORIES:Standard
ORGANIZER;CN="TEN TEN CHESS ACADEMY":MAILTO:info@tentenchess.com
END:VEVENT
BEGIN:VEVENT
DTSTART;TZID=Asia/Kolkata:20260509T080000
DTEND;TZID=Asia/Kolkata:20260511T170000
DTSTAMP:20260420T083404
CREATED:20260410T105107Z
LAST-MODIFIED:20260410T105107Z
UID:437-1778313600-1778518800@chesscalendar.in
SUMMARY:1st Sri Krish International Below 1600 Open FIDE Rating Chess Tournament
DESCRIPTION:Download Brochure
URL:https://chesscalendar.in/event/1st-sri-krish-international-below-1600-open-fide-rating-chess-tournament/
LOCATION:Sri Krish International School 1/191 A\, Rajiv Gandhi Nagar\,\, Sri Krish International School 1/191 A\, Rajiv Gandhi Nagar\,\, KANCHIPURAM\, Tamilnadu\, 600128\, India
CATEGORIES:Standard
ORGANIZER;CN="Vijay Anand Chess Academy":MAILTO:VIJAYANANDCHESSACADEMY@GMAIL.COM
END:VEVENT
BEGIN:VEVENT
DTSTART;TZID=Asia/Kolkata:20260510T080000
DTEND;TZID=Asia/Kolkata:20260510T170000
DTSTAMP:20260420T083404
CREATED:20260410T105349Z
LAST-MODIFIED:20260410T105349Z
UID:441-1778400000-1778432400@chesscalendar.in
SUMMARY:Paran Jyoti Talukdar International Rapid Rated Chess Tournament 2026
DESCRIPTION:Download Brochure
URL:https://chesscalendar.in/event/paran-jyoti-talukdar-international-rapid-rated-chess-tournament-2026/
LOCATION:Barpeta College (Old Barpeta Girls’ College)\, Barpeta College (Old Barpeta Girls' College)\, Barpeta\, Assam\, India
CATEGORIES:Rapid
END:VEVENT
BEGIN:VEVENT
DTSTART;TZID=Asia/Kolkata:20260510T080000
DTEND;TZID=Asia/Kolkata:20260515T170000
DTSTAMP:20260420T083404
CREATED:20260410T105830Z
LAST-MODIFIED:20260410T105830Z
UID:446-1778400000-1778864400@chesscalendar.in
SUMMARY:1st Maverick 5th Khannur FIDE Rated Open Classical Chess Tournament 2026
DESCRIPTION:Download Brochure
URL:https://chesscalendar.in/event/1st-maverick-5th-khannur-fide-rated-open-classical-chess-tournament-2026/
LOCATION:New Horizon Scholars School\, Kavesar\, GB Road\,\, New Horizon Scholars School\, Kavesar\, GB Road\, Thane\, Maharashtra\, India
CATEGORIES:Standard
END:VEVENT
END:VCALENDAR