BEGIN:VCALENDAR
VERSION:2.0
PRODID:-//Chess Calendar - ECPv6.15.17//NONSGML v1.0//EN
CALSCALE:GREGORIAN
METHOD:PUBLISH
X-WR-CALNAME:Chess Calendar
X-ORIGINAL-URL:https://chesscalendar.in
X-WR-CALDESC:Events for Chess Calendar
REFRESH-INTERVAL;VALUE=DURATION:PT1H
X-Robots-Tag:noindex
X-PUBLISHED-TTL:PT1H
BEGIN:VTIMEZONE
TZID:Asia/Kolkata
BEGIN:STANDARD
TZOFFSETFROM:+0530
TZOFFSETTO:+0530
TZNAME:IST
DTSTART:20250101T000000
END:STANDARD
END:VTIMEZONE
BEGIN:VEVENT
DTSTART;TZID=Asia/Kolkata:20260415T080000
DTEND;TZID=Asia/Kolkata:20260419T170000
DTSTAMP:20260420T202135
CREATED:20260327T103136Z
LAST-MODIFIED:20260327T103136Z
UID:330-1776240000-1776618000@chesscalendar.in
SUMMARY:TAMILNADU STATE U-17 OPEN/Girls CHESS CHAMPIONSHIP 2026
DESCRIPTION:Download Brochure
URL:https://chesscalendar.in/event/tamilnadu-state-u-17-open-girls-chess-championship-2026/
LOCATION:Surya Group of Institutions\, Grand Southern Trunk Rd\, Surya Nagar\, Vikravandi\, Villupuram-605652.\, Surya Group of Institutions\, Grand Southern Trunk Rd\, Villupuram\, Tamilnadu\, 605652\, India
CATEGORIES:Standard
END:VEVENT
BEGIN:VEVENT
DTSTART;TZID=Asia/Kolkata:20260417T080000
DTEND;TZID=Asia/Kolkata:20260419T170000
DTSTAMP:20260420T202135
CREATED:20260403T124013Z
LAST-MODIFIED:20260403T124013Z
UID:335-1776412800-1776618000@chesscalendar.in
SUMMARY:Karnataka State U-11 Open/Girls FIDE Rating Chess Championship 2026
DESCRIPTION:Download Brochure
URL:https://chesscalendar.in/event/karnataka-state-u-11-open-girls-fide-rating-chess-championship-2026/
LOCATION:ST.THERESAS SCHOOL\, BETHANY INSTITUTION\, BENDUR\, MANGALORE\, 575002\, St. Theresas School\, Mangalore\, Karnataka\, 575002\, India
CATEGORIES:Standard
END:VEVENT
BEGIN:VEVENT
DTSTART;TZID=Asia/Kolkata:20260418T080000
DTEND;TZID=Asia/Kolkata:20260419T170000
DTSTAMP:20260420T202135
CREATED:20260403T124425Z
LAST-MODIFIED:20260403T124425Z
UID:339-1776499200-1776618000@chesscalendar.in
SUMMARY:4th Unity Club All India FIDE Open Rapid Rating Chess Tournament – 2026
DESCRIPTION:Download Brochure
URL:https://chesscalendar.in/event/4th-unity-club-all-india-fide-open-rapid-rating-chess-tournament-2026/
LOCATION:Manohar Parrikar Indoor Stadium\, Navelim Margao Goa\, Manohar Parrikar Indoor Stadium\, Navelim Margao\, Goa\, India
CATEGORIES:Rapid
ORGANIZER;CN="UNITY CLUB":MAILTO:unityclubmargaogoa@gmail.com
END:VEVENT
BEGIN:VEVENT
DTSTART;TZID=Asia/Kolkata:20260418T100000
DTEND;TZID=Asia/Kolkata:20260419T190000
DTSTAMP:20260420T202135
CREATED:20260408T125112Z
LAST-MODIFIED:20260408T125112Z
UID:360-1776506400-1776625200@chesscalendar.in
SUMMARY:Pacific Chess League
DESCRIPTION:Download Brochure
URL:https://chesscalendar.in/event/pacific-chess-league/
LOCATION:Pacific Mall Netaji Subhash Palace\, Pacific Mall Netaji Subhash Palace\, Delhi\, Delhi\, India
CATEGORIES:Rapid
ORGANIZER;CN="Delhi Chess Classes & Pacific Mall":MAILTO:delhichessclasses@gmail.com
END:VEVENT
END:VCALENDAR