BEGIN:VCALENDAR
VERSION:2.0
PRODID:-//Chess Calendar - ECPv6.15.17//NONSGML v1.0//EN
CALSCALE:GREGORIAN
METHOD:PUBLISH
X-WR-CALNAME:Chess Calendar
X-ORIGINAL-URL:https://chesscalendar.in
X-WR-CALDESC:Events for Chess Calendar
REFRESH-INTERVAL;VALUE=DURATION:PT1H
X-Robots-Tag:noindex
X-PUBLISHED-TTL:PT1H
BEGIN:VTIMEZONE
TZID:Asia/Kolkata
BEGIN:STANDARD
TZOFFSETFROM:+0530
TZOFFSETTO:+0530
TZNAME:IST
DTSTART:20250101T000000
END:STANDARD
END:VTIMEZONE
BEGIN:VEVENT
DTSTART;TZID=Asia/Kolkata:20260308T080000
DTEND;TZID=Asia/Kolkata:20260308T170000
DTSTAMP:20260420T215652
CREATED:20260223T104946Z
LAST-MODIFIED:20260223T104946Z
UID:148-1772956800-1772989200@chesscalendar.in
SUMMARY:Eight Square Chess Academy & Capa Chess Academy – International RAPID FIDE Rated Open Chess Tournament – 2026
DESCRIPTION:Download Brochure
URL:https://chesscalendar.in/event/eight-square-chess-academy-capa-chess-academy-international-rapid-fide-rated-open-chess-tournament-2026/
LOCATION:Hall of Chess\, Jawaharlal Nehru Stadium\, Chennai\, Hall of Chess\, Jawaharlal Nehru Stadium\, Chennai\, Tamilnadu\, India
CATEGORIES:Rapid
END:VEVENT
END:VCALENDAR